BEGIN:VCALENDAR
VERSION:2.0
PRODID:-//Swissintell - ECPv6.15.20//NONSGML v1.0//EN
CALSCALE:GREGORIAN
METHOD:PUBLISH
X-WR-CALNAME:Swissintell
X-ORIGINAL-URL:https://swissintell.ch
X-WR-CALDESC:Events for Swissintell
REFRESH-INTERVAL;VALUE=DURATION:PT1H
X-Robots-Tag:noindex
X-PUBLISHED-TTL:PT1H
BEGIN:VTIMEZONE
TZID:Europe/Helsinki
BEGIN:DAYLIGHT
TZOFFSETFROM:+0200
TZOFFSETTO:+0300
TZNAME:EEST
DTSTART:20250330T010000
END:DAYLIGHT
BEGIN:STANDARD
TZOFFSETFROM:+0300
TZOFFSETTO:+0200
TZNAME:EET
DTSTART:20251026T010000
END:STANDARD
BEGIN:DAYLIGHT
TZOFFSETFROM:+0200
TZOFFSETTO:+0300
TZNAME:EEST
DTSTART:20260329T010000
END:DAYLIGHT
BEGIN:STANDARD
TZOFFSETFROM:+0300
TZOFFSETTO:+0200
TZNAME:EET
DTSTART:20261025T010000
END:STANDARD
BEGIN:DAYLIGHT
TZOFFSETFROM:+0200
TZOFFSETTO:+0300
TZNAME:EEST
DTSTART:20270328T010000
END:DAYLIGHT
BEGIN:STANDARD
TZOFFSETFROM:+0300
TZOFFSETTO:+0200
TZNAME:EET
DTSTART:20271031T010000
END:STANDARD
END:VTIMEZONE
BEGIN:VEVENT
DTSTART;TZID=Europe/Helsinki:20260611T080000
DTEND;TZID=Europe/Helsinki:20260611T173000
DTSTAMP:20260420T113102
CREATED:20260311T115352Z
LAST-MODIFIED:20260318T195050Z
UID:337415-1781164800-1781199000@swissintell.ch
SUMMARY:La 21ème édition de JVeille
DESCRIPTION:Dans un environnement d’accélération technologique\, dominé par l’avènement de l’intelligence artificielle\, le métier de veilleur doit s’adapter et interroger ses pratiques fondamentales que sont l’OSINT et l’HUMINT. La journée JVeille 2026 interrogera l’équilibre et le point de bascule entre ces techniques de collecte et questionnera le rôle de point d’ancrage de l’HUMINT qui permet de garantir une information sûre favorisant une prise de décision éclairée. \nTarif tarif préférentiel pour les membres Swissintell : CHF 80.— au lieu de CHF 120.– \nShare this:\n				Print (Opens in new window)\n				Print\n			\n				Email a link to a friend (Opens in new window)\n				Email\n			\n				Share on Facebook (Opens in new window)\n				Facebook\n			\n				Share on X (Opens in new window)\n				X\n			\n				Share on LinkedIn (Opens in new window)\n				LinkedIn\n			\n				Share on WhatsApp (Opens in new window)\n				WhatsApp\n			\n				Share on Telegram (Opens in new window)\n				Telegram
URL:https://swissintell.ch/event/la-21eme-edition-de-jveille/
LOCATION:HEG – Campus Batelle\, Rue de la Tambourine 17\, Carouge\, Genève\, 1227\, Switzerland
CATEGORIES:Artificial Intelligence,External Events
END:VEVENT
END:VCALENDAR